BEGIN:VCALENDAR
VERSION:2.0
PRODID:-//Carbon Co-op - ECPv6.15.18//NONSGML v1.0//EN
CALSCALE:GREGORIAN
METHOD:PUBLISH
X-ORIGINAL-URL:https://carbon.coop
X-WR-CALDESC:Events for Carbon Co-op
REFRESH-INTERVAL;VALUE=DURATION:PT1H
X-Robots-Tag:noindex
X-PUBLISHED-TTL:PT1H
BEGIN:VTIMEZONE
TZID:+01:00
END:VTIMEZONE
BEGIN:VEVENT
DTSTART;TZID=+01:00:20250508T180000
DTEND;TZID=+01:00:20250508T193000
DTSTAMP:20260419T190915
CREATED:20250328T174801Z
LAST-MODIFIED:20250428T110747Z
UID:38949-1746727200-1746732600@carbon.coop
SUMMARY:EcoHome Lab: Intro to our new tariff comparison tool (beta)
DESCRIPTION:*** \nFor the last couple of months we’ve been working hard to add tariff comparison to our [PowerShaper tool](https://powershaper.io/)\, to allow users to compare which tariff might suit them best based on their historical usage. At present the tool is at beta stage\, but we’re keen to get your ideas and feedback from user testing before we go any further. \n============================= \nNow in our regular monthly slot – every second Thursday of the month. A hangout for people taking control of their home energy usage and generation. We use open-source hardware and software to gain a better understanding of energy in our homes\, how to make the best use of the energy we generate and reduce energy wasted. \nCatch up on [some of our previous sessions and presentations](https://www.youtube.com/playlist?list=PLiz1gBPXWVAJ4hzg3zj72hVrXVJgWvzOG). \nThis is a [Carbon Co-op](https://carbon.coop/) initiative working with [OpenEnergyMonitor](https://openenergymonitor.org)\, [Home Assistant](https://www.home-assistant.io/) and the wider open source community. \nIf there is no specific topic mentioned in the title it will be an open session where we welcome ‘show and tell’ from members. If you’ve something you’d like to present\, discuss or demo\, please do get in touch and we’ll schedule you in. \n**Regular topics include:** \n• Home energy monitoring. \n• House energy performance assessment \n• Sensors – electricity\, gas\, temperature\, humidity\, air quality… \n• User interfaces\, dashboards \n• Smart homes and automation \n• Taking the power back! – Making better use of the surplus power we generate \n**Who is it for?** \n• Anyone with skills in physical electronics\, web development or programming who wants to use that knowledge to reduce energy and carbon! \n• Householders looking to control their energy use and reduce their carbon.
URL:https://carbon.coop/event/ecohome-lab-monthly-meetup-and-skill-share-74/
LOCATION:Online event
ATTACH;FMTTYPE=image/jpeg:/wp-content/uploads/2025/04/1024x576-Dmj95d.tmp_.jpg
END:VEVENT
END:VCALENDAR