BEGIN:VCALENDAR
VERSION:2.0
PRODID:-//Carbon Co-op - ECPv6.15.18//NONSGML v1.0//EN
CALSCALE:GREGORIAN
METHOD:PUBLISH
X-WR-CALNAME:Carbon Co-op
X-ORIGINAL-URL:https://carbon.coop
X-WR-CALDESC:Events for Carbon Co-op
REFRESH-INTERVAL;VALUE=DURATION:PT1H
X-Robots-Tag:noindex
X-PUBLISHED-TTL:PT1H
BEGIN:VTIMEZONE
TZID:Europe/London
BEGIN:DAYLIGHT
TZOFFSETFROM:+0000
TZOFFSETTO:+0100
TZNAME:BST
DTSTART:20240331T010000
END:DAYLIGHT
BEGIN:STANDARD
TZOFFSETFROM:+0100
TZOFFSETTO:+0000
TZNAME:GMT
DTSTART:20241027T010000
END:STANDARD
BEGIN:DAYLIGHT
TZOFFSETFROM:+0000
TZOFFSETTO:+0100
TZNAME:BST
DTSTART:20250330T010000
END:DAYLIGHT
BEGIN:STANDARD
TZOFFSETFROM:+0100
TZOFFSETTO:+0000
TZNAME:GMT
DTSTART:20251026T010000
END:STANDARD
BEGIN:DAYLIGHT
TZOFFSETFROM:+0000
TZOFFSETTO:+0100
TZNAME:BST
DTSTART:20260329T010000
END:DAYLIGHT
BEGIN:STANDARD
TZOFFSETFROM:+0100
TZOFFSETTO:+0000
TZNAME:GMT
DTSTART:20261025T010000
END:STANDARD
END:VTIMEZONE
BEGIN:VEVENT
DTSTART;TZID=Europe/London:20251127T123000
DTEND;TZID=Europe/London:20251127T133000
DTSTAMP:20260424T012556
CREATED:20251029T033304Z
LAST-MODIFIED:20251127T090256Z
UID:39345-1764246600-1764250200@carbon.coop
SUMMARY:People-Centred Retrofit for Social Housing: Tools\, Insights & Practice
DESCRIPTION:Discover how people-centred retrofit is being put into practice—and how your organisation can benefit.\n\n\nJoin us for a practical\, insight-rich webinar introducing two new toolkits from the Retrofit for All project—an initiative shaped by tenants\, housing providers\, and delivery partners to make retrofit more inclusive\, effective\, and trusted. \nYou’ll hear about the project’s origins\, the collaborative process behind it\, and why this approach to retrofit matters now. We’ll explore key research\, professional experience\, and practical tools to help teams put people at the heart of retrofit delivery. \n \nWhat to expect:\n1) Resident Liaison Officer ToolkitA how-to guide\, case studies\, and a short video showing how Broadacres placed tenants at the centre of retrofit—through in-house RLOs and contractor collaboration. \n2) Resident Recruitment ToolkitA how-to-guide\, case study\, and video from Lancaster West on how empowering residents in key roles can boost community engagement and project success. \nPlus\, you’ll hear from housing providers\, project leads\, and engagement specialists about what’s working\, what’s changing\, and how these tools can support your work. \nWho should attend?\n\nHousing associations\, ALMOs\, local authorities\nRetrofit delivery teams and contractors\nResident engagement officers\nTenants\nRetrofit shouldn’t just change buildings—it should improve lives\, homes\, and communities.
URL:https://carbon.coop/event/people-centred-retrofit-in-action-tools-insights-real-world-lessons/
ATTACH;FMTTYPE=image/jpeg:/wp-content/uploads/2025/11/161131e24b53fddbf31e69c7ae0304f3.jpg
END:VEVENT
END:VCALENDAR